Package: gdsfmt Version: 1.40.2 Command: /home/biocbuild/bbs-3.19-bioc/R/bin/R CMD check --install=check:gdsfmt.install-out.txt --library=/home/biocbuild/bbs-3.19-bioc/R/site-library --timings gdsfmt_1.40.2.tar.gz StartedAt: 2024-10-17 00:39:24 -0400 (Thu, 17 Oct 2024) EndedAt: 2024-10-17 00:41:36 -0400 (Thu, 17 Oct 2024) EllapsedTime: 132.3 seconds RetCode: 0 Status: OK CheckDir: gdsfmt.Rcheck Warnings: 0