Package: gdsfmt Version: 1.40.2 Command: /home/biocbuild/bbs-3.19-bioc/R/bin/R CMD build --keep-empty-dirs --no-resave-data gdsfmt StartedAt: 2024-10-16 18:36:43 -0400 (Wed, 16 Oct 2024) EndedAt: 2024-10-16 18:40:15 -0400 (Wed, 16 Oct 2024) EllapsedTime: 211.5 seconds RetCode: 0 Status: OK PackageFile: gdsfmt_1.40.2.tar.gz PackageFileSize: 2.796 MiB