Package: gdsfmt Version: 1.40.2 Command: /Library/Frameworks/R.framework/Resources/bin/R CMD build --keep-empty-dirs --no-resave-data gdsfmt StartedAt: 2024-10-16 19:25:22 -0400 (Wed, 16 Oct 2024) EndedAt: 2024-10-16 19:32:30 -0400 (Wed, 16 Oct 2024) EllapsedTime: 428.8 seconds RetCode: 0 Status: OK PackageFile: gdsfmt_1.40.2.tar.gz PackageFileSize: 2.796 MiB