Package: gdsfmt Version: 1.40.0 Command: /Library/Frameworks/R.framework/Resources/bin/R CMD check --install=check:gdsfmt.install-out.txt --library=/Library/Frameworks/R.framework/Resources/library --no-vignettes --timings gdsfmt_1.40.0.tar.gz StartedAt: 2024-06-09 20:30:07 -0400 (Sun, 09 Jun 2024) EndedAt: 2024-06-09 20:32:59 -0400 (Sun, 09 Jun 2024) EllapsedTime: 172.0 seconds RetCode: 0 Status: OK CheckDir: gdsfmt.Rcheck Warnings: 0