Package: gdsfmt Version: 1.40.0 Command: /home/biocbuild/R/R-beta-2024-04-15_r86425/bin/R CMD build --keep-empty-dirs --no-resave-data gdsfmt StartedAt: 2024-05-09 00:26:48 -0000 (Thu, 09 May 2024) EndedAt: 2024-05-09 00:32:11 -0000 (Thu, 09 May 2024) EllapsedTime: 322.5 seconds RetCode: 0 Status: OK PackageFile: gdsfmt_1.40.0.tar.gz PackageFileSize: 2.817 MiB