Package: gdsfmt Version: 1.40.0 Command: /Library/Frameworks/R.framework/Resources/bin/R CMD build --keep-empty-dirs --no-resave-data gdsfmt StartedAt: 2024-06-09 21:54:35 -0400 (Sun, 09 Jun 2024) EndedAt: 2024-06-09 21:58:26 -0400 (Sun, 09 Jun 2024) EllapsedTime: 231.1 seconds RetCode: 0 Status: OK PackageFile: gdsfmt_1.40.0.tar.gz PackageFileSize: 2.796 MiB