Package: gdsfmt Version: 1.40.2 Command: /Library/Frameworks/R.framework/Resources/bin/R CMD build --keep-empty-dirs --no-resave-data gdsfmt StartedAt: 2024-10-17 00:56:18 -0400 (Thu, 17 Oct 2024) EndedAt: 2024-10-17 00:59:44 -0400 (Thu, 17 Oct 2024) EllapsedTime: 206.0 seconds RetCode: 0 Status: OK PackageFile: gdsfmt_1.40.2.tar.gz PackageFileSize: 2.796 MiB