Package: gdsfmt Version: 1.40.2 Command: rm -rf gdsfmt.buildbin-libdir && mkdir gdsfmt.buildbin-libdir && /Users/biocbuild/BBS/utils/build-universal.sh gdsfmt_1.40.2.tar.gz /Library/Frameworks/R.framework/Resources/bin/R gdsfmt.buildbin-libdir StartedAt: 2024-10-18 18:36:57 -0400 (Fri, 18 Oct 2024) EndedAt: 2024-10-18 18:41:33 -0400 (Fri, 18 Oct 2024) EllapsedTime: 275.9 seconds RetCode: 0 Status: OK PackageFile: gdsfmt_1.40.2.tgz PackageFileSize: 1.732 MiB