Package: gcatest Version: 2.4.0 Command: E:\biocbuild\bbs-3.19-bioc\R\bin\R.exe CMD check --no-multiarch --install=check:gcatest.install-out.txt --library=E:\biocbuild\bbs-3.19-bioc\R\library --no-vignettes --timings gcatest_2.4.0.tar.gz StartedAt: 2024-10-17 01:38:29 -0400 (Thu, 17 Oct 2024) EndedAt: 2024-10-17 01:39:26 -0400 (Thu, 17 Oct 2024) EllapsedTime: 57.3 seconds RetCode: 0 Status: OK CheckDir: gcatest.Rcheck Warnings: 0