Package: gcatest Version: 2.4.0 Command: chmod a+r gcatest -R && E:\biocbuild\bbs-3.19-bioc\R\bin\R.exe CMD build --keep-empty-dirs --no-resave-data gcatest StartedAt: 2024-10-16 19:18:35 -0400 (Wed, 16 Oct 2024) EndedAt: 2024-10-16 19:19:18 -0400 (Wed, 16 Oct 2024) EllapsedTime: 43.0 seconds RetCode: 0 Status: OK PackageFile: gcatest_2.4.0.tar.gz PackageFileSize: 2.148 MiB