Package: gcatest Version: 2.4.0 Command: /home/biocbuild/bbs-3.19-bioc/R/bin/R CMD check --install=check:gcatest.install-out.txt --library=/home/biocbuild/bbs-3.19-bioc/R/site-library --timings gcatest_2.4.0.tar.gz StartedAt: 2024-10-17 00:36:36 -0400 (Thu, 17 Oct 2024) EndedAt: 2024-10-17 00:37:25 -0400 (Thu, 17 Oct 2024) EllapsedTime: 49.1 seconds RetCode: 0 Status: OK CheckDir: gcatest.Rcheck Warnings: 0