Package: gcatest Version: 2.4.0 Command: rm -rf gcatest.buildbin-libdir && mkdir gcatest.buildbin-libdir && /Users/biocbuild/BBS/utils/build-universal.sh gcatest_2.4.0.tar.gz /Library/Frameworks/R.framework/Resources/bin/R gcatest.buildbin-libdir StartedAt: 2024-06-10 00:19:05 -0400 (Mon, 10 Jun 2024) EndedAt: 2024-06-10 00:19:13 -0400 (Mon, 10 Jun 2024) EllapsedTime: 7.9 seconds RetCode: 0 Status: OK PackageFile: gcatest_2.4.0.tgz PackageFileSize: 3.356 MiB