Package: gcatest Version: 2.4.0 Command: rm -rf gcatest.buildbin-libdir && mkdir gcatest.buildbin-libdir && /Users/biocbuild/BBS/utils/build-universal.sh gcatest_2.4.0.tar.gz /Library/Frameworks/R.framework/Resources/bin/R gcatest.buildbin-libdir StartedAt: 2024-10-18 18:35:36 -0400 (Fri, 18 Oct 2024) EndedAt: 2024-10-18 18:35:47 -0400 (Fri, 18 Oct 2024) EllapsedTime: 10.4 seconds RetCode: 0 Status: OK PackageFile: gcatest_2.4.0.tgz PackageFileSize: 3.356 MiB