Package: gcapc Version: 1.28.0 Command: E:\biocbuild\bbs-3.19-bioc\R\bin\R.exe CMD INSTALL gcapc StartedAt: 2024-10-16 16:29:38 -0400 (Wed, 16 Oct 2024) EndedAt: 2024-10-16 16:30:16 -0400 (Wed, 16 Oct 2024) EllapsedTime: 37.5 seconds RetCode: 0 Status: OK