Package: gcapc Version: 1.28.0 Command: rm -rf gcapc.buildbin-libdir && mkdir gcapc.buildbin-libdir && E:\biocbuild\bbs-3.19-bioc\R\bin\R.exe CMD INSTALL --build --library=gcapc.buildbin-libdir gcapc_1.28.0.tar.gz StartedAt: 2024-10-17 07:49:31 -0400 (Thu, 17 Oct 2024) EndedAt: 2024-10-17 07:50:11 -0400 (Thu, 17 Oct 2024) EllapsedTime: 40.0 seconds RetCode: 0 Status: OK PackageFile: gcapc_1.28.0.zip PackageFileSize: 3.682 MiB