Package: gcapc Version: 1.28.0 Command: chmod a+r gcapc -R && F:\biocbuild\bbs-3.19-bioc\R\bin\R.exe CMD build --keep-empty-dirs --no-resave-data gcapc StartedAt: 2024-06-26 19:02:54 -0400 (Wed, 26 Jun 2024) EndedAt: 2024-06-26 19:08:05 -0400 (Wed, 26 Jun 2024) EllapsedTime: 310.7 seconds RetCode: 0 Status: OK PackageFile: gcapc_1.28.0.tar.gz PackageFileSize: 3.603 MiB