Package: gcapc Version: 1.28.0 Command: rm -rf gcapc.buildbin-libdir && mkdir gcapc.buildbin-libdir && F:\biocbuild\bbs-3.19-bioc\R\bin\R.exe CMD INSTALL --build --library=gcapc.buildbin-libdir gcapc_1.28.0.tar.gz StartedAt: 2024-06-27 08:14:41 -0400 (Thu, 27 Jun 2024) EndedAt: 2024-06-27 08:15:21 -0400 (Thu, 27 Jun 2024) EllapsedTime: 40.8 seconds RetCode: 0 Status: OK PackageFile: gcapc_1.28.0.zip PackageFileSize: 3.682 MiB