Package: gcapc Version: 1.28.0 Command: /Library/Frameworks/R.framework/Resources/bin/R CMD INSTALL gcapc StartedAt: 2024-10-16 15:38:43 -0400 (Wed, 16 Oct 2024) EndedAt: 2024-10-16 15:39:55 -0400 (Wed, 16 Oct 2024) EllapsedTime: 72.4 seconds RetCode: 0 Status: OK