Package: gcapc Version: 1.28.0 Command: /Library/Frameworks/R.framework/Resources/bin/R CMD check --install=check:gcapc.install-out.txt --library=/Library/Frameworks/R.framework/Resources/library --no-vignettes --timings gcapc_1.28.0.tar.gz StartedAt: 2024-10-17 05:35:24 -0400 (Thu, 17 Oct 2024) EndedAt: 2024-10-17 05:49:57 -0400 (Thu, 17 Oct 2024) EllapsedTime: 872.9 seconds RetCode: 0 Status: OK CheckDir: gcapc.Rcheck Warnings: 0