Package: gcapc Version: 1.28.0 Command: /Library/Frameworks/R.framework/Resources/bin/R CMD build --keep-empty-dirs --no-resave-data gcapc StartedAt: 2024-10-16 19:24:00 -0400 (Wed, 16 Oct 2024) EndedAt: 2024-10-16 19:32:31 -0400 (Wed, 16 Oct 2024) EllapsedTime: 511.1 seconds RetCode: 0 Status: OK PackageFile: gcapc_1.28.0.tar.gz PackageFileSize: 3.791 MiB