Package: gcapc Version: 1.28.0 Command: rm -rf gcapc.buildbin-libdir && mkdir gcapc.buildbin-libdir && /Users/biocbuild/BBS/utils/build-universal.sh gcapc_1.28.0.tar.gz /Library/Frameworks/R.framework/Resources/bin/R gcapc.buildbin-libdir StartedAt: 2024-10-17 16:12:07 -0400 (Thu, 17 Oct 2024) EndedAt: 2024-10-17 16:13:26 -0400 (Thu, 17 Oct 2024) EllapsedTime: 79.3 seconds RetCode: 0 Status: OK PackageFile: gcapc_1.28.0.tgz PackageFileSize: 3.868 MiB