Package: gcapc Version: 1.28.0 Command: /Library/Frameworks/R.framework/Resources/bin/R CMD INSTALL gcapc StartedAt: 2024-06-09 15:22:27 -0400 (Sun, 09 Jun 2024) EndedAt: 2024-06-09 15:23:09 -0400 (Sun, 09 Jun 2024) EllapsedTime: 42.5 seconds RetCode: 0 Status: OK