Package: gcapc Version: 1.28.0 Command: /Library/Frameworks/R.framework/Resources/bin/R CMD check --install=check:gcapc.install-out.txt --library=/Library/Frameworks/R.framework/Resources/library --no-vignettes --timings gcapc_1.28.0.tar.gz StartedAt: 2024-06-09 20:28:49 -0400 (Sun, 09 Jun 2024) EndedAt: 2024-06-09 20:35:41 -0400 (Sun, 09 Jun 2024) EllapsedTime: 411.6 seconds RetCode: 0 Status: OK CheckDir: gcapc.Rcheck Warnings: 0