Package: gcapc Version: 1.28.0 Command: /Library/Frameworks/R.framework/Resources/bin/R CMD build --keep-empty-dirs --no-resave-data gcapc StartedAt: 2024-06-09 16:43:19 -0400 (Sun, 09 Jun 2024) EndedAt: 2024-06-09 16:46:46 -0400 (Sun, 09 Jun 2024) EllapsedTime: 207.1 seconds RetCode: 0 Status: OK PackageFile: gcapc_1.28.0.tar.gz PackageFileSize: 3.791 MiB