Package: gcapc Version: 1.28.0 Command: rm -rf gcapc.buildbin-libdir && mkdir gcapc.buildbin-libdir && /Users/biocbuild/BBS/utils/build-universal.sh gcapc_1.28.0.tar.gz /Library/Frameworks/R.framework/Resources/bin/R gcapc.buildbin-libdir StartedAt: 2024-06-11 11:18:37 -0400 (Tue, 11 Jun 2024) EndedAt: 2024-06-11 11:19:40 -0400 (Tue, 11 Jun 2024) EllapsedTime: 62.9 seconds RetCode: 0 Status: OK PackageFile: gcapc_1.28.0.tgz PackageFileSize: 3.868 MiB