Package: gcapc Version: 1.28.0 Command: /Library/Frameworks/R.framework/Resources/bin/R CMD INSTALL gcapc StartedAt: 2024-10-16 16:36:31 -0400 (Wed, 16 Oct 2024) EndedAt: 2024-10-16 16:37:11 -0400 (Wed, 16 Oct 2024) EllapsedTime: 39.4 seconds RetCode: 0 Status: OK