Package: gatom Version: 1.2.0 Command: chmod a+r gatom -R && E:\biocbuild\bbs-3.19-bioc\R\bin\R.exe CMD build --keep-empty-dirs --no-resave-data gatom StartedAt: 2024-10-16 19:18:11 -0400 (Wed, 16 Oct 2024) EndedAt: 2024-10-16 19:25:34 -0400 (Wed, 16 Oct 2024) EllapsedTime: 443.1 seconds RetCode: 0 Status: OK PackageFile: gatom_1.2.0.tar.gz PackageFileSize: 1.609 MiB