Package: garfield Version: 1.32.0 Command: rm -rf garfield.buildbin-libdir && mkdir garfield.buildbin-libdir && /Users/biocbuild/BBS/utils/build-universal.sh garfield_1.32.0.tar.gz /Library/Frameworks/R.framework/Resources/bin/R garfield.buildbin-libdir StartedAt: 2024-06-11 11:18:17 -0400 (Tue, 11 Jun 2024) EndedAt: 2024-06-11 11:18:35 -0400 (Tue, 11 Jun 2024) EllapsedTime: 18.4 seconds RetCode: 0 Status: OK PackageFile: garfield_1.32.0.tgz PackageFileSize: 387.7 KiB