Package: gage Version: 2.54.0 Command: E:\biocbuild\bbs-3.19-bioc\R\bin\R.exe CMD INSTALL gage StartedAt: 2024-10-16 16:16:16 -0400 (Wed, 16 Oct 2024) EndedAt: 2024-10-16 16:16:43 -0400 (Wed, 16 Oct 2024) EllapsedTime: 26.9 seconds RetCode: 0 Status: OK