Package: gage Version: 2.54.0 Command: E:\biocbuild\bbs-3.19-bioc\R\bin\R.exe CMD check --no-multiarch --install=check:gage.install-out.txt --library=E:\biocbuild\bbs-3.19-bioc\R\library --no-vignettes --timings gage_2.54.0.tar.gz StartedAt: 2024-10-17 01:36:55 -0400 (Thu, 17 Oct 2024) EndedAt: 2024-10-17 01:39:17 -0400 (Thu, 17 Oct 2024) EllapsedTime: 142.0 seconds RetCode: 0 Status: WARNINGS CheckDir: gage.Rcheck Warnings: 1