Package: gage Version: 2.54.0 Command: chmod a+r gage -R && E:\biocbuild\bbs-3.19-bioc\R\bin\R.exe CMD build --keep-empty-dirs --no-resave-data gage StartedAt: 2024-10-16 19:17:44 -0400 (Wed, 16 Oct 2024) EndedAt: 2024-10-16 19:20:37 -0400 (Wed, 16 Oct 2024) EllapsedTime: 172.6 seconds RetCode: 0 Status: OK PackageFile: gage_2.54.0.tar.gz PackageFileSize: 4.298 MiB