Package: gage Version: 2.54.0 Command: /home/biocbuild/bbs-3.19-bioc/R/bin/R CMD INSTALL gage StartedAt: 2024-10-16 16:02:34 -0400 (Wed, 16 Oct 2024) EndedAt: 2024-10-16 16:02:48 -0400 (Wed, 16 Oct 2024) EllapsedTime: 14.1 seconds RetCode: 0 Status: OK