Package: gage Version: 2.54.0 Command: /home/biocbuild/bbs-3.19-bioc/R/bin/R CMD check --install=check:gage.install-out.txt --library=/home/biocbuild/bbs-3.19-bioc/R/site-library --timings gage_2.54.0.tar.gz StartedAt: 2024-10-17 00:34:48 -0400 (Thu, 17 Oct 2024) EndedAt: 2024-10-17 00:39:10 -0400 (Thu, 17 Oct 2024) EllapsedTime: 261.5 seconds RetCode: 0 Status: WARNINGS CheckDir: gage.Rcheck Warnings: 2