Package: gage Version: 2.54.0 Command: /Library/Frameworks/R.framework/Resources/bin/R CMD check --install=check:gage.install-out.txt --library=/Library/Frameworks/R.framework/Resources/library --no-vignettes --timings gage_2.54.0.tar.gz StartedAt: 2024-06-09 20:28:12 -0400 (Sun, 09 Jun 2024) EndedAt: 2024-06-09 20:30:25 -0400 (Sun, 09 Jun 2024) EllapsedTime: 133.1 seconds RetCode: 0 Status: WARNINGS CheckDir: gage.Rcheck Warnings: 1