Package: gage Version: 2.54.0 Command: /Library/Frameworks/R.framework/Resources/bin/R CMD INSTALL gage StartedAt: 2024-10-16 16:14:50 -0400 (Wed, 16 Oct 2024) EndedAt: 2024-10-16 16:15:07 -0400 (Wed, 16 Oct 2024) EllapsedTime: 16.9 seconds RetCode: 0 Status: OK