Package: gage Version: 2.54.0 Command: /Library/Frameworks/R.framework/Resources/bin/R CMD check --install=check:gage.install-out.txt --library=/Library/Frameworks/R.framework/Resources/library --no-vignettes --timings gage_2.54.0.tar.gz StartedAt: 2024-10-17 22:10:28 -0400 (Thu, 17 Oct 2024) EndedAt: 2024-10-17 22:12:48 -0400 (Thu, 17 Oct 2024) EllapsedTime: 139.0 seconds RetCode: 0 Status: WARNINGS CheckDir: gage.Rcheck Warnings: 1