Package: gage Version: 2.54.0 Command: /Library/Frameworks/R.framework/Resources/bin/R CMD build --keep-empty-dirs --no-resave-data gage StartedAt: 2024-10-17 00:47:08 -0400 (Thu, 17 Oct 2024) EndedAt: 2024-10-17 00:50:22 -0400 (Thu, 17 Oct 2024) EllapsedTime: 194.3 seconds RetCode: 0 Status: OK PackageFile: gage_2.54.0.tar.gz PackageFileSize: 4.282 MiB