Package: gaga Version: 2.50.0 Command: /Library/Frameworks/R.framework/Resources/bin/R CMD build --keep-empty-dirs --no-resave-data gaga StartedAt: 2024-06-09 21:48:26 -0400 (Sun, 09 Jun 2024) EndedAt: 2024-06-09 21:49:03 -0400 (Sun, 09 Jun 2024) EllapsedTime: 37.3 seconds RetCode: 0 Status: OK PackageFile: gaga_2.50.0.tar.gz PackageFileSize: 570.3 KiB