Package: gaga Version: 2.50.0 Command: rm -rf gaga.buildbin-libdir && mkdir gaga.buildbin-libdir && /Users/biocbuild/BBS/utils/build-universal.sh gaga_2.50.0.tar.gz /Library/Frameworks/R.framework/Resources/bin/R gaga.buildbin-libdir StartedAt: 2024-10-18 18:34:51 -0400 (Fri, 18 Oct 2024) EndedAt: 2024-10-18 18:35:10 -0400 (Fri, 18 Oct 2024) EllapsedTime: 19.1 seconds RetCode: 0 Status: OK PackageFile: gaga_2.50.0.tgz PackageFileSize: 764.6 KiB