Package: gINTomics Version: 1.0.0 Command: rm -rf gINTomics.buildbin-libdir && mkdir gINTomics.buildbin-libdir && E:\biocbuild\bbs-3.19-bioc\R\bin\R.exe CMD INSTALL --build --library=gINTomics.buildbin-libdir gINTomics_1.0.0.tar.gz StartedAt: 2024-10-17 07:53:31 -0400 (Thu, 17 Oct 2024) EndedAt: 2024-10-17 07:56:29 -0400 (Thu, 17 Oct 2024) EllapsedTime: 178.2 seconds RetCode: 0 Status: OK PackageFile: gINTomics_1.0.0.zip PackageFileSize: 3.812 MiB