Package: gINTomics Version: 1.0.0 Command: /Library/Frameworks/R.framework/Resources/bin/R CMD check --install=check:gINTomics.install-out.txt --library=/Library/Frameworks/R.framework/Resources/library --no-vignettes --timings gINTomics_1.0.0.tar.gz StartedAt: 2024-10-17 06:08:46 -0400 (Thu, 17 Oct 2024) EndedAt: 2024-10-17 06:26:28 -0400 (Thu, 17 Oct 2024) EllapsedTime: 1061.6 seconds RetCode: 1 Status: ERROR CheckDir: gINTomics.Rcheck Warnings: NA