Package: gDRutils Version: 1.2.0 Command: chmod a+r gDRutils -R && E:\biocbuild\bbs-3.19-bioc\R\bin\R.exe CMD build --keep-empty-dirs --no-resave-data gDRutils StartedAt: 2024-10-16 19:20:02 -0400 (Wed, 16 Oct 2024) EndedAt: 2024-10-16 19:21:17 -0400 (Wed, 16 Oct 2024) EllapsedTime: 75.3 seconds RetCode: 0 Status: OK PackageFile: gDRutils_1.2.0.tar.gz PackageFileSize: 301.6 KiB