Package: gDRutils Version: 1.2.0 Command: rm -rf gDRutils.buildbin-libdir && mkdir gDRutils.buildbin-libdir && F:\biocbuild\bbs-3.19-bioc\R\bin\R.exe CMD INSTALL --build --library=gDRutils.buildbin-libdir gDRutils_1.2.0.tar.gz StartedAt: 2024-06-27 08:15:00 -0400 (Thu, 27 Jun 2024) EndedAt: 2024-06-27 08:15:42 -0400 (Thu, 27 Jun 2024) EllapsedTime: 42.4 seconds RetCode: 0 Status: OK PackageFile: gDRutils_1.2.0.zip PackageFileSize: 561.3 KiB