Package: gDRutils Version: 1.2.0 Command: /home/biocbuild/bbs-3.19-bioc/R/bin/R CMD build --keep-empty-dirs --no-resave-data gDRutils StartedAt: 2024-10-16 18:36:34 -0400 (Wed, 16 Oct 2024) EndedAt: 2024-10-16 18:37:06 -0400 (Wed, 16 Oct 2024) EllapsedTime: 32.1 seconds RetCode: 0 Status: OK PackageFile: gDRutils_1.2.0.tar.gz PackageFileSize: 301.6 KiB