Package: gDRutils Version: 1.2.0 Command: rm -rf gDRutils.buildbin-libdir && mkdir gDRutils.buildbin-libdir && /Users/biocbuild/BBS/utils/build-universal.sh gDRutils_1.2.0.tar.gz /Library/Frameworks/R.framework/Resources/bin/R gDRutils.buildbin-libdir StartedAt: 2024-10-17 16:12:37 -0400 (Thu, 17 Oct 2024) EndedAt: 2024-10-17 16:13:34 -0400 (Thu, 17 Oct 2024) EllapsedTime: 56.3 seconds RetCode: 0 Status: OK PackageFile: gDRutils_1.2.0.tgz PackageFileSize: 554.3 KiB