Package: gDRutils Version: 1.2.0 Command: /home/biocbuild/R/R-beta-2024-04-15_r86425/bin/R CMD build --keep-empty-dirs --no-resave-data gDRutils StartedAt: 2024-05-09 00:26:41 -0000 (Thu, 09 May 2024) EndedAt: 2024-05-09 00:27:26 -0000 (Thu, 09 May 2024) EllapsedTime: 45.1 seconds RetCode: 0 Status: OK PackageFile: gDRutils_1.2.0.tar.gz PackageFileSize: 326.5 KiB