Package: gDRutils Version: 1.2.0 Command: /Library/Frameworks/R.framework/Resources/bin/R CMD build --keep-empty-dirs --no-resave-data gDRutils StartedAt: 2024-06-09 21:53:54 -0400 (Sun, 09 Jun 2024) EndedAt: 2024-06-09 21:54:43 -0400 (Sun, 09 Jun 2024) EllapsedTime: 49.0 seconds RetCode: 0 Status: OK PackageFile: gDRutils_1.2.0.tar.gz PackageFileSize: 301.5 KiB