Package: gDRutils Version: 1.2.0 Command: rm -rf gDRutils.buildbin-libdir && mkdir gDRutils.buildbin-libdir && /Users/biocbuild/BBS/utils/build-universal.sh gDRutils_1.2.0.tar.gz /Library/Frameworks/R.framework/Resources/bin/R gDRutils.buildbin-libdir StartedAt: 2024-10-18 18:36:43 -0400 (Fri, 18 Oct 2024) EndedAt: 2024-10-18 18:37:16 -0400 (Fri, 18 Oct 2024) EllapsedTime: 32.8 seconds RetCode: 0 Status: OK PackageFile: gDRutils_1.2.0.tgz PackageFileSize: 554.2 KiB