Package: gDRutils Version: 1.2.0 Maintainer: Arkadiusz Gladki MaintainerEmail: gladki.arkadiusz at gmail.com git_url: https://git.bioconductor.org/packages/gDRutils git_branch: RELEASE_3_19 git_last_commit: d1f7215 git_last_commit_date: 2024-04-30 11:49:57 -0400 (Tue, 30 Apr 2024)