Package: gDRstyle Version: 1.2.0 Command: rm -rf gDRstyle.buildbin-libdir && mkdir gDRstyle.buildbin-libdir && F:\biocbuild\bbs-3.19-bioc\R\bin\R.exe CMD INSTALL --build --library=gDRstyle.buildbin-libdir gDRstyle_1.2.0.tar.gz StartedAt: 2024-06-27 08:14:58 -0400 (Thu, 27 Jun 2024) EndedAt: 2024-06-27 08:15:12 -0400 (Thu, 27 Jun 2024) EllapsedTime: 13.4 seconds RetCode: 0 Status: OK PackageFile: gDRstyle_1.2.0.zip PackageFileSize: 667.5 KiB